Workbook

Sheet Antragstellung
A4: Antragstellung ADAC Jugend-Sportabzeichen
A6: Der Antragsteller muss zwischen 6 und 18 Jahre alt sein.
A7: Mindestens ein Elternteil muss Mitglied beim ADAC sein!
A9: Schritt 1: | B9: Sammeln aller Ergebnislisten (PDF) und Eintragen der Ergebnisse in den
B10: Reiter "Auswertung"
A12: Schritt 2: | B12: Ausfüllen der PDF Jugensportabzeichen-Antrag
A17: Schritt 2: | B17: Die Liste "Auswertung" zusammen mit den Ergebnislisten (PDF)
B18: der gefahrenen Rennen und dem PDF Jugendsportabzeichen-Antrag an
B19: folgende Adresse senden:
B21: sarah.spielberger@sby.adac.de
B23: (Die Dateien am besten gesammelt als ZIP Datei)
B25: Betreff: Beantragung Jugend-Sportabzeichen Stufe XXXXXX
B27: (Stichtag für das laufende Jahr ist der 15. September)
A30: Hinweise: | B30: - Die Stufen Bronze und Silber werden bei uns intern Verliehen
B32: - Die Stufe Gold wird im Rahmen des ADAC Gala Abends
B33: in München verliehen.

Sheet Auswertung
A1: ADAC-Jugend-Sportabzeichen
A2: Name:
A4: Datum | B4: Klasse | C4: Veranstaltung | D4: Veranstalter | E4: Starter | F4: Platzierung | G4: Punkte
A5: 44094 | B5: 1 | C5: Regionallauf | D5: MSC Freyung | E5: 16 | F5: 3 | G5: =LOOKUP(F5,Punktespiegel!$B$3:$L$4) -> 4.5
A6: 44101 | B6: 1 | C6: Regionallauf | D6: AC Aicha v. Wald | E6: 25 | F6: 14 | G6: =LOOKUP(F6,Punktespiegel!$B$3:$L$4) -> 0.5
A7: 44360 | B7: 1 | C7: Regionallauf | D7: MSC Johanniskirchen | E7: 22 | F7: 12 | G7: =LOOKUP(F7,Punktespiegel!$B$3:$L$4) -> 0.5
A8: 44373 | B8: 1 | C8: Regionallauf | D8: MSG Bayerischer Wald | E8: 13 | F8: 4 | G8: =LOOKUP(F8,Punktespiegel!$B$3:$L$4) -> 4
A9: 44374 | B9: 1 | C9: Regionallauf | D9: AC Aicha v. Wald | E9: 14 | F9: 3 | G9: =LOOKUP(F9,Punktespiegel!$B$3:$L$4) -> 4.5
A10: 44381 | B10: 1 | C10: Regionallauf | D10: KC Eggenfelden | E10: 16 | F10: 11 | G10: =LOOKUP(F10,Punktespiegel!$B$3:$L$4) -> 0.5
A11: 44388 | B11: 1 | C11: Regionallauf | D11: MSC Röhrnbach | E11: 17 | F11: 4 | G11: =LOOKUP(F11,Punktespiegel!$B$3:$L$4) -> 4
A12: 44394 | B12: 1 | C12: Regionallauf | D12: MSC Emmersdorf | E12: 21 | F12: 4 | G12: =LOOKUP(F12,Punktespiegel!$B$3:$L$4) -> 4
A13: 44394 | B13: 1 | C13: Regionallauf | D13: MSC Emmersdorf | E13: 21 | F13: 2 | G13: =LOOKUP(F13,Punktespiegel!$B$3:$L$4) -> 5
A14: 44401 | B14: 1 | C14: Regionallauf | D14: MSC Freyung | E14: 19 | F14: 2 | G14: =LOOKUP(F14,Punktespiegel!$B$3:$L$4) -> 5
A15: 44402 | B15: 1 | C15: Regionallauf | D15: MSC Freyung | E15: 19 | F15: 2 | G15: =LOOKUP(F15,Punktespiegel!$B$3:$L$4) -> 5
A16: 44409 | B16: 1 | C16: Endlauf Südbayern | D16: MSC Altenstadt | E16: 19 | F16: 4 | G16: =LOOKUP(F16,Punktespiegel!$B$3:$L$4) -> 4
... A80: 45913 | B80: 3 | C80: Endlauf BMV | D80: MSG Sonthofen | E80: 33 | F80: 6 | G80: =LOOKUP(F80,Punktespiegel!$B$3:$L$4) -> 3
A81: 45928 | B81: 3 | C81: Endlauf Niederbayrische | D81: AC Aicha v. Wald | F81: 1 | G81: =LOOKUP(F81,Punktespiegel!$B$3:$L$4) -> 6
A82: 45948 | B82: 3 | C82: Endlauf Deutsche | D82: ADAC Hessen/Thüringen - Grammetal | E82: 56 | F82: 10 | G82: =LOOKUP(F82,Punktespiegel!$B$3:$L$4) -> 1
A83: 46124 | B83: 4 | C83: Regionallauf | D83: MSC Emmersdorf | E83: 23 | F83: 4 | G83: =LOOKUP(F83,Punktespiegel!$B$3:$L$4) -> 4
A84: 46131 | B84: 4 | C84: Regionallauf | D84: MTC Waldkirchen | E84: 20 | F84: 1 | G84: =LOOKUP(F84,Punktespiegel!$B$3:$L$4) -> 6
A85: 46145 | B85: 4 | C85: Regionallauf | D85: RC Hauzenberg | E85: 20 | F85: 1 | G85: =LOOKUP(F85,Punktespiegel!$B$3:$L$4) -> 6
A86: 46152 | B86: 4 | C86: Regionallauf | D86: MS Bayerwald Eging | E86: 17 | F86: 1 | G86: =LOOKUP(F86,Punktespiegel!$B$3:$L$4) -> 6
A87: 46159 | B87: 4 | C87: Regionallauf | D87: KC Eggenfelden | E87: 21 | F87: 1 | G87: =LOOKUP(F87,Punktespiegel!$B$3:$L$4) -> 6
A88: 46180 | B88: 4 | C88: Regionallauf | D88: MSG Bayerischer Wald | E88: 16 | F88: 5 | G88: =LOOKUP(F88,Punktespiegel!$B$3:$L$4) -> 3.5
A89: 46187 | B89: 4 | C89: Regionallauf | D89: MSC Freyung | E89: 16 | F89: 2 | G89: =LOOKUP(F89,Punktespiegel!$B$3:$L$4) -> 5
A90: 46194 | B90: 4 | C90: Regionallauf | D90: ASC Tiefenbach | E90: 14 | F90: 1 | G90: =LOOKUP(F90,Punktespiegel!$B$3:$L$4) -> 6
A91: 46201 | B91: 4 | C91: Regionallauf | D91: MSC Straubing | E91: 19 | F91: 1 | G91: =LOOKUP(F91,Punktespiegel!$B$3:$L$4) -> 6
A92: 46207 | B92: 4 | C92: Regionallauf | D92: MSC Johanniskirchen | E92: 18 | F92: 18 | G92: =LOOKUP(F92,Punktespiegel!$B$3:$L$4) -> 0.5
A93: 46208 | B93: 4 | C93: Regionallauf | D93: MSC Ortenburg | E93: 17 | F93: 1 | G93: =LOOKUP(F93,Punktespiegel!$B$3:$L$4) -> 6
... A96: 46228 | B96: 4 | C96: Endlauf BMV | D96: MSG Bayerischer Wald | E96: 35 | F96: 1 | G96: =LOOKUP(F96,Punktespiegel!$B$3:$L$4) -> 6
F100: SUMME ADAC Punkte | G100: =_xlfn.AGGREGATE(9,6,(Tabelle1[Punkte])) -> 398
F101: SUMME gefahrene Rennen | G101: =COUNT(Tabelle1[Punkte]) -> 92
F102: SUMME Platz 1 | G102: =COUNTIF(Tabelle1[Platzierung],1) -> 34
F103: SUMME Platz 2 | G103: =COUNTIF(Tabelle1[Platzierung],2) -> 15
F104: SUMME Platz 3 | G104: =COUNTIF(Tabelle1[Platzierung],3) -> 9
D106: =IF(G100>100,IF(G100>200,IF(G100>300,"Stufe GOLD erreicht","Stufe SILBER erreicht"),"Stufe BRONZE erreicht"),"Punkte reichen für ein Sportabzeichen noch nicht aus") -> Stufe GOLD erreicht

Sheet Punktespiegel
A1: Punktespiegel
A3: Platz: | B3: 1 | C3: 2 | D3: 3 | E3: 4 | F3: 5 | G3: 6 | H3: 7 | I3: 8 | J3: 9 | K3: 10 | L3: 11
A4: Punkte: | B4: 6 | C4: 5 | D4: 4.5 | E4: 4 | F4: 3.5 | G4: 3 | H4: 2.5 | I4: 2 | J4: 1.5 | K4: 1 | L4: 0.5
